BEGIN:VCALENDAR
PRODID:-//Cornell Cooperative Extension of Broome County//NONSGML Cornell Cooperative Extension of Broome County Events//EN
X-ORIGINAL-URL:
VERSION:2.0
CALSCALE:GREGORIAN
METHOD:PUBLISH
BEGIN:VEVENT
METHOD: PUBLISH
X-MS-OLK-FORCEINSPECTOROPEN:TRUE
DTSTART:20260605T160400
DTEND:20260605T180600
SUMMARY:2026 Cutler Botanic Garden Plant Sale 
DTSTAMP:20110121T170000
LAST-MODIFIED:20260420T150356
CREATED:20180425T101048
SEQUENCE:0
TRANSP:TRANSPARENT
UID:11272
LOCATION:
URL:http://ccebroomecounty.com/events/2026/06/05/2026-cutler-botanic-garden-plant-sale
DESCRIPTION:Cutler Botanic Garden Master Gardener Plant SaleThe annual Master Gardener Plant Sale will take place at Cornell Cooperative Extension, 840 Upper Front Street, Binghamton, near the entrance to Cutler Botanic Garden.  Distinctive perennials, herbs, annuals, grasses, rock garden plants, shrubs and trees are available for purchase.  Get advice from Master Gardeners, take a stroll around gardens and help support the educational work of Cutler Botanic Garden.  Held rain or shine, carts and wagons are welcome.  Cash, checks or credit cards are accepted. In order to limit crowd size, you need to pre-register online for a time to shop, Friday only. Registration opens on May 4th!&amp;nbsp;&amp;nbsp;
CLASS:PUBLIC
CATEGORIES:
STATUS:CONFIRMED
END:VEVENT
END:VCALENDAR
n/a