BEGIN:VCALENDAR
PRODID:-//Cornell Cooperative Extension of Broome County//NONSGML Cornell Cooperative Extension of Broome County Events//EN
X-ORIGINAL-URL:
VERSION:2.0
CALSCALE:GREGORIAN
METHOD:PUBLISH
BEGIN:VEVENT
METHOD: PUBLISH
X-MS-OLK-FORCEINSPECTOROPEN:TRUE
DTSTART:20230913T180600
DTEND:20230913T190700
SUMMARY:Salsa Canning Workshop
DTSTAMP:20110121T170000
LAST-MODIFIED:20230822T101043
CREATED:20230821T080803
SEQUENCE:0
TRANSP:TRANSPARENT
UID:25639
LOCATION:
URL:http://ccebroomecounty.com/events/2023/09/13/salsa-canning-workshop
DESCRIPTION:Learn how to make fresh, homemade salsa! We’ll cover the best tomato varieties to use, as well as proper food preparation techniques. You’ll learn about the difference between pressure canning and hot water bath, and when to use which. Each participant will go home with a sample of their very own creation to enjoy.This workshop will take place at the Broome County Regional Farmers Market Commercial Kitchen on Wednesday, September 13th at 6:00pm - 7:30pm. $40 per personParticipants are required to wear closed-toe shoes in the commercial kitchen.Refunds are granted if we are notified at least 72 hours in advance.
CLASS:PUBLIC
CATEGORIES:
STATUS:CONFIRMED
END:VEVENT
END:VCALENDAR
n/a